{"text_format":"1","workbook":"xlsx","n_sheets":2,"sheets":["PODATKI","IZRAČUNI"],"not_rendered":{"charts":0,"images":0,"macros":1,"external_links":0,"defined_names":3,"comments":0,"pivot_tables":0},"unopened":[],"bounds":{"document_bytes":16777216,"sheet_cells":100000,"rows_first":2000,"rows_last":500,"rows_between":2000,"halvings":0,"cell_chars":16384,"cell_head_chars":4096},"cells_cut":0,"cells_raw":0,"read":"whole","date_system":"1900"}

{"sheet":"PODATKI","index":0,"n_rows":15,"n_cols":60,"rows_kept":15,"cut":false,"hidden":false,"merged":[[5,0,5,3],[3,5,3,8],[4,5,4,8],[1,0,1,18],[3,0,3,3],[4,0,4,3]]}
[null,null,null,null,null,null,null,null,null,null,null,null,null,null,null,null,null,null,null,null,null,null,null,null,"podatki - NE SPREMINJAJ!",null,null,null,null,null,null,null,"1. informativna"]
["PODATKI O PREDVAJANEM TELEVIZIJSKEM PROGRAMU",null,null,null,null,null,null,null,null,null,null,null,null,null,null,null,null,null,null,null,null,null,null,null,"slo/evr AV DELO",null,"producent",null,"< 5 let",null,"produkcija",null,"2. izobraževalna"]
[null,null,null,null,null,null,null,null,null,null,null,null,null,null,null,null,null,null,null,null,null,null,null,null,"1. DA",null,"1.neodvisni",null,"1.manj kot 5 let",null,"1.hišna/naročena",null,"3. kulturno-umetniška",null,"predvajanje"]
["Izdajatelj:",null,null,null,null,null,null,null,null,null,null,null,null,null,null,null,null,null,null,null,null,null,null,null,"2. NE",null,"2.odvisni",null,"2.več kot 5 let",null,"2.koprodukcija",null,"4. verska",null,"1. premierno/1.pon./2.pon. TV pog. oddaje"]
["Ime programa:",null,null,null,null,null,null,null,null,null,null,null,null,null,null,null,null,null,null,null,null,null,null,null,null,null,null,null,null,null,"3.kupljena",null,"5. otroška ali mladinska",null,"2. kasnejše ponovitve"]
["Leto:",null,null,null,null,null,null,null,null,null,null,null,null,null,null,null,null,null,null,null,null,null,null,null,null,"Oddajni čas:","IZRAČUN",null,"Letni:",{"$f":"SUM(U12:U14)","v":0},null,null,"6. športna"]
[null,null,null,null,null,null,null,null,null,null,null,null,null,null,null,null,null,null,null,null,null,null,null,null,null,null,null,null,"Evropska AV dela:",{"$f":"SUM(V11:V14)","v":0},null,null,"7. kulturno-zabavna"]
[null,null,null,null,null,null,null,null,null,null,null,null,null,null,null,null,null,null,null,null,null,null,null,null,null,null,null,null,"Slovenska AV dela:",{"$f":"SUM(X11:X14)","v":0},null,null,"8. zabavna"]
[null,null,null,null,null,null,null,null,null,null,null,null,null,null,null,null,null,null,null,null,null,null,null,null,null,null,null,null,null,null,null,null,"9.9 SLO glasba izven vsebin",null,"VSEBINE - 100% TRAJANJE",null,null,null,null,null,null,null,null,"VSEBINE - TRAJANJE VSA LP",null,null,null,null,null,null,null,null,"VSEBINE - TRAJANJE LP PREM. & 1. PON."]
["PODATKE O VSEBINAH VEDNO VNAŠAJTE V 13. VRSTICO!",null,null,null,null,null,null,null,null,null,null,null,null,null,null,null,null,null,null,null,null,null,null,null,null,{"$f":"SUM(Z12:Z14)","v":"00:00:00"},{"$f":"SUM(AA12:AA14)","v":"00:00:00"},{"$f":"SUM(AB12:AB14)","v":"00:00:00"},{"$f":"SUM(AC12:AC14)","v":"00:00:00"},{"$f":"SUM(AD12:AD14)","v":"00:00:00"},{"$f":"SUM(AE12:AE14)","v":0},{"$f":"SUM(AF12:AF14)","v":0},{"$f":"SUM(AG12:AG14)","v":0},null,{"$f":"SUM(AI12:AI14)","v":0},{"$f":"SUM(AJ12:AJ14)","v":0},{"$f":"SUM(AK12:AK14)","v":0},{"$f":"SUM(AL12:AL14)","v":0},{"$f":"SUM(AM12:AM14)","v":0},{"$f":"SUM(AN12:AN14)","v":0},{"$f":"SUM(AO12:AO14)","v":0},{"$f":"SUM(AP12:AP14)","v":0},{"$f":"SUM(AQ12:AQ14)","v":0},{"$f":"SUM(AR12:AR14)","v":0},{"$f":"SUM(AS12:AS14)","v":0},{"$f":"SUM(AT12:AT14)","v":0},{"$f":"SUM(AU12:AU14)","v":0},{"$f":"SUM(AV12:AV14)","v":0},{"$f":"SUM(AW12:AW14)","v":0},{"$f":"SUM(AX12:AX14)","v":0},{"$f":"SUM(AY12:AY14)","v":0},null,{"$f":"SUM(BA12:BA14)","v":0},{"$f":"SUM(BB12:BB14)","v":0},{"$f":"SUM(BC12:BC14)","v":0},{"$f":"SUM(BD12:BD14)","v":0},{"$f":"SUM(BE12:BE14)","v":0},{"$f":"SUM(BF12:BF14)","v":0},{"$f":"SUM(BG12:BG14)","v":0},{"$f":"SUM(BH12:BH14)","v":0}]
["DATUM","T","!","ZAČETEK","KONEC","TRAJANJE","NASLOV","ZVRST","PRODUKCIJA",null,"DELEŽ","PREDVAJANJE","SLO AV","SLO AV N","EVR AV","EVR AV N","IME IN SEDEŽ PRODUCENTA/OV",null,"LETO PROD.",null,"LETNI","EU AV DELA","ODD. ČAS 3","SLO AV DELA",null,"TRAJANJE 100%","SLO AV","SLO AV N","EVR AV","EVR AV N","< 5 LET","TRAJANJE LP","TR. LP PREM",null,{"$f":"AG1","v":"1. informativna"},{"$f":"AG2","v":"2. izobraževalna"},{"$f":"AG3","v":"3. kulturno-umetniška"},{"$f":"AG4","v":"4. verska"},{"$f":"AG5","v":"5. otroška ali mladinska"},{"$f":"AG6","v":"6. športna"},{"$f":"AG7","v":"7. kulturno-zabavna"},{"$f":"AG8","v":"8. zabavna"},{"$f":"AG9","v":"9.9 SLO glasba izven vsebin"},{"$f":"AG1","v":"1. informativna"},{"$f":"AG2","v":"2. izobraževalna"},{"$f":"AG3","v":"3. kulturno-umetniška"},{"$f":"AG4","v":"4. verska"},{"$f":"AG5","v":"5. otroška ali mladinska"},{"$f":"AG6","v":"6. športna"},{"$f":"AG7","v":"7. kulturno-zabavna"},{"$f":"AG8","v":"8. zabavna"},null,{"$f":"AG1","v":"1. informativna"},{"$f":"AG2","v":"2. izobraževalna"},{"$f":"AG3","v":"3. kulturno-umetniška"},{"$f":"AG4","v":"4. verska"},{"$f":"AG5","v":"5. otroška ali mladinska"},{"$f":"AG6","v":"6. športna"},{"$f":"AG7","v":"7. kulturno-zabavna"},{"$f":"AG8","v":"8. zabavna"}]
[null,null,null,null,null,{"$f":"E12-D12","v":0},null,null,null,{"$f":"IF(I12=\"2.koprodukcija\",\">\",\"\")","v":""},{"$f":"IF(I12= \"1.hišna/naročena\",\"100,00%\",\"delež prod.\")","v":"delež prod."},null,null,null,null,null,null,{"$f":"IF(P12=\"1. DA\",\">\",\"\")","v":""},null,"ODD. ČAS:",null,null,null,null,null,{"$f":"F12","v":0},{"$f":"IF(M12=\"1. DA\",Z12,\"00:00:00\")","v":"00:00:00"},{"$f":"IF(N12=\"1. DA\",Z12,\"00:00:00\")","v":"00:00:00"},{"$f":"IF(O12=\"1. DA\",Z12,\"00:00:00\")","v":"00:00:00"},{"$f":"IF(P12=\"1. DA\",Z12,\"00:00:00\")","v":"00:00:00"},{"$f":"IF(S12=\"1.manj kot 5 let\",AD12,\"00:00:00\")","v":"00:00:00"},{"$f":"IF(K12<>\"delež prod.\",F12*K12,\"00:00:00\")","v":"00:00:00"},{"$f":" IF(L12 = AI$4,AF12,\"00:00:00\")","v":"00:00:00"},null,{"$f":" IF(H12 = AG$1,Z12,\"00:00:00\")","v":"00:00:00"},{"$f":" IF(H12 = AG$2,Z12,\"00:00:00\")","v":"00:00:00"},{"$f":" IF(H12 = AG$3,Z12,\"00:00:00\")","v":"00:00:00"},{"$f":" IF(H12 = AG$4,Z12,\"00:00:00\")","v":"00:00:00"},{"$f":" IF(H12 = AG$5,Z12,\"00:00:00\")","v":"00:00:00"},{"$f":" IF(H12 = AG$6,Z12,\"00:00:00\")","v":"00:00:00"},{"$f":" IF(H12 = AG$7,Z12,\"00:00:00\")","v":"00:00:00"},{"$f":" IF(H12 = AG$8,Z12,\"00:00:00\")","v":"00:00:00"},{"$f":" IF(H12 = AG$9,Z12,\"00:00:00\")","v":"00:00:00"},{"$f":" IF(H12 = AG$1,AF12,\"00:00:00\")","v":"00:00:00"},{"$f":" IF(H12 = AG$2,AF12,\"00:00:00\")","v":"00:00:00"},{"$f":" IF(H12 = AG$3,AF12,\"00:00:00\")","v":"00:00:00"},{"$f":" IF(H12 = AG$4,AF12,\"00:00:00\")","v":"00:00:00"},{"$f":" IF(H12 = AG$5,AF12,\"00:00:00\")","v":"00:00:00"},{"$f":" IF(H12 = AG$6,AF12,\"00:00:00\")","v":"00:00:00"},{"$f":" IF(H12 = AG$7,AF12,\"00:00:00\")","v":"00:00:00"},{"$f":" IF(H12 = AG$8,AF12,\"00:00:00\")","v":"00:00:00"},null,{"$f":" IF($L12 = $AI$4,AR12,\"00:00:00\")","v":"00:00:00"},{"$f":" IF($L12 = $AI$4,AS12,\"00:00:00\")","v":"00:00:00"},"00:00:00","00:00:00","00:00:00","00:00:00","00:00:00","00:00:00"]
[null,null,null,null,null,{"$f":"E13-D13","v":0},null,null,null,{"$f":"IF(I13=\"2.koprodukcija\",\">\",\"\")","v":""},{"$f":"IF(I13= \"1.hišna/naročena\",\"100,00%\",\"delež prod.\")","v":"delež prod."},null,null,null,null,null,null,{"$f":"IF(P13=\"1. DA\",\">\",\"\")","v":""},null,"ODD. ČAS:",null,null,null,null,null,{"$f":"F13","v":0},{"$f":"IF(M13=\"1. DA\",Z13,\"00:00:00\")","v":"00:00:00"},{"$f":"IF(N13=\"1. DA\",Z13,\"00:00:00\")","v":"00:00:00"},{"$f":"IF(O13=\"1. DA\",Z13,\"00:00:00\")","v":"00:00:00"},{"$f":"IF(P13=\"1. DA\",Z13,\"00:00:00\")","v":"00:00:00"},{"$f":"IF(S13=\"1.manj kot 5 let\",AD13,\"00:00:00\")","v":"00:00:00"},{"$f":"IF(K13<>\"delež prod.\",F13*K13,\"00:00:00\")","v":"00:00:00"},{"$f":" IF(L13 = AI$4,AF13,\"00:00:00\")","v":"00:00:00"},null,{"$f":" IF(H13 = AG$1,Z13,\"00:00:00\")","v":"00:00:00"},{"$f":" IF(H13 = AG$2,Z13,\"00:00:00\")","v":"00:00:00"},{"$f":" IF(H13 = AG$3,Z13,\"00:00:00\")","v":"00:00:00"},{"$f":" IF(H13 = AG$4,Z13,\"00:00:00\")","v":"00:00:00"},{"$f":" IF(H13 = AG$5,Z13,\"00:00:00\")","v":"00:00:00"},{"$f":" IF(H13 = AG$6,Z13,\"00:00:00\")","v":"00:00:00"},{"$f":" IF(H13 = AG$7,Z13,\"00:00:00\")","v":"00:00:00"},{"$f":" IF(H13 = AG$8,Z13,\"00:00:00\")","v":"00:00:00"},{"$f":" IF(H13 = AG$9,Z13,\"00:00:00\")","v":"00:00:00"},{"$f":" IF(H13 = AG$1,AF13,\"00:00:00\")","v":"00:00:00"},{"$f":" IF(H13 = AG$2,AF13,\"00:00:00\")","v":"00:00:00"},{"$f":" IF(H13 = AG$3,AF13,\"00:00:00\")","v":"00:00:00"},{"$f":" IF(H13 = AG$4,AF13,\"00:00:00\")","v":"00:00:00"},{"$f":" IF(H13 = AG$5,AF13,\"00:00:00\")","v":"00:00:00"},{"$f":" IF(H13 = AG$6,AF13,\"00:00:00\")","v":"00:00:00"},{"$f":" IF(H13 = AG$7,AF13,\"00:00:00\")","v":"00:00:00"},{"$f":" IF(H13 = AG$8,AF13,\"00:00:00\")","v":"00:00:00"},null,{"$f":" IF($L13 = $AI$4,AR13,\"00:00:00\")","v":"00:00:00"},{"$f":" IF($L13 = $AI$4,AS13,\"00:00:00\")","v":"00:00:00"},{"$f":" IF($L13 = $AI$4,AT13,\"00:00:00\")","v":"00:00:00"},{"$f":" IF($L13 = $AI$4,AU13,\"00:00:00\")","v":"00:00:00"},{"$f":" IF($L13 = $AI$4,AV13,\"00:00:00\")","v":"00:00:00"},{"$f":" IF($L13 = $AI$4,AW13,\"00:00:00\")","v":"00:00:00"},{"$f":" IF($L13 = $AI$4,AX13,\"00:00:00\")","v":"00:00:00"}]
[null,null,null,null,null,{"$f":"E14-D14","v":0},null,null,null,{"$f":"IF(I14=\"2.koprodukcija\",\">\",\"\")","v":""},{"$f":"IF(I14= \"1.hišna/naročena\",\"100,00%\",\"delež prod.\")","v":"delež prod."},null,null,null,null,null,null,null,null,"ODD. ČAS:",null,null,null,null,null,{"$f":"F14","v":0},{"$f":"IF(M14=\"1. DA\",Z14,\"00:00:00\")","v":"00:00:00"},{"$f":"IF(N14=\"1. DA\",Z14,\"00:00:00\")","v":"00:00:00"},{"$f":"IF(O14=\"1. DA\",Z14,\"00:00:00\")","v":"00:00:00"},{"$f":"IF(P14=\"1. DA\",Z14,\"00:00:00\")","v":"00:00:00"},{"$f":"IF(S14=\"1.manj kot 5 let\",AD14,\"00:00:00\")","v":"00:00:00"},{"$f":"IF(K14<>\"delež prod.\",F14*K14,\"00:00:00\")","v":"00:00:00"},{"$f":" IF(L14 = AI$4,AF14,\"00:00:00\")","v":"00:00:00"},null,{"$f":" IF(H14 = AG$1,Z14,\"00:00:00\")","v":"00:00:00"},{"$f":" IF(H14 = AG$2,Z14,\"00:00:00\")","v":"00:00:00"},{"$f":" IF(H14 = AG$3,Z14,\"00:00:00\")","v":"00:00:00"},{"$f":" IF(H14 = AG$4,Z14,\"00:00:00\")","v":"00:00:00"},{"$f":" IF(H14 = AG$5,Z14,\"00:00:00\")","v":"00:00:00"},{"$f":" IF(H14 = AG$6,Z14,\"00:00:00\")","v":"00:00:00"},{"$f":" IF(H14 = AG$7,Z14,\"00:00:00\")","v":"00:00:00"},{"$f":" IF(H14 = AG$8,Z14,\"00:00:00\")","v":"00:00:00"},{"$f":" IF(H14 = AG$9,Z14,\"00:00:00\")","v":"00:00:00"},{"$f":" IF(H14 = AG$1,AF14,\"00:00:00\")","v":"00:00:00"},{"$f":" IF(H14 = AG$2,AF14,\"00:00:00\")","v":"00:00:00"},{"$f":" IF(H14 = AG$3,AF14,\"00:00:00\")","v":"00:00:00"},{"$f":" IF(H14 = AG$4,AF14,\"00:00:00\")","v":"00:00:00"},{"$f":" IF(H14 = AG$5,AF14,\"00:00:00\")","v":"00:00:00"},{"$f":" IF(H14 = AG$6,AF14,\"00:00:00\")","v":"00:00:00"},{"$f":" IF(H14 = AG$7,AF14,\"00:00:00\")","v":"00:00:00"},{"$f":" IF(H14 = AG$8,AF14,\"00:00:00\")","v":"00:00:00"},null,{"$f":" IF($L14 = $AI$4,AR14,\"00:00:00\")","v":"00:00:00"},{"$f":" IF($L14 = $AI$4,AS14,\"00:00:00\")","v":"00:00:00"},"00:00:00","00:00:00","00:00:00","00:00:00","00:00:00","00:00:00"]
["Gš.v.20120727.1unlE97-2003"]

{"sheet":"IZRAČUNI","index":1,"n_rows":62,"n_cols":10,"rows_kept":62,"cut":false,"hidden":false,"merged":[[5,3,5,7],[6,3,6,7]]}
[]
[]
[{"$f":"PODATKI!A2","v":"PODATKI O PREDVAJANEM TELEVIZIJSKEM PROGRAMU"},null,null,null,null,null,null,null,null,{"$f":"PODATKI!F5","v":0}]
[]
[]
[null,null,{"$f":"PODATKI!A4","v":"Izdajatelj:"},{"$f":"PODATKI!F4","v":0}]
[null,null,{"$f":"PODATKI!A5","v":"Ime programa:"},{"$f":"PODATKI!F5","v":0}]
[null,null,{"$f":"PODATKI!A6","v":"Leto:"},{"$f":"PODATKI!F6","v":0}]
[null,"Oddajni čas:",null,null,"Letni:",{"$f":"PODATKI!AD6","v":0},"ur"]
[null,null,null,null,"Evropska AV dela:",{"$f":"PODATKI!AD7","v":0},"ur"]
[null,null,null,null,"Slovenska AV dela:",{"$f":"PODATKI!AD8","v":0},"ur"]
[]
[null,"Podatki o predvajanih programskih vsebinah"]
[]
[null,"AV dela",null,null,null,null,null,"trajanje",null,"delež"]
[null,{"$f":"PODATKI!AA11","v":"SLO AV"},"slovenska AV dela",null,null,null,null,{"$f":"PODATKI!AA10","v":0},null,{"$f":"H16/F11","v":{"$error":"#DIV/0!"}}]
[null,{"$f":"PODATKI!AB11","v":"SLO AV N"},"slovenska AV dela neodvisnih producentov",null,null,null,null,{"$f":"PODATKI!AB10","v":0},null,{"$f":"H17/F11","v":{"$error":"#DIV/0!"}}]
[null,{"$f":"PODATKI!AC11","v":"EVR AV"},"evropska AV dela",null,null,null,null,{"$f":"PODATKI!AC10","v":0},null,{"$f":"H18/F10","v":{"$error":"#DIV/0!"}}]
[null,{"$f":"PODATKI!AD11","v":"EVR AV N"},"evropska AV dela neodvisnih producentov",null,null,null,null,{"$f":"PODATKI!AD10","v":0},null,{"$f":"H19/F10","v":{"$error":"#DIV/0!"}}]
[null,{"$f":"PODATKI!AE11","v":"< 5 LET"},"evropska AV dela neodv. prod., mlajša od 5 let",null,null,null,null,{"$f":"PODATKI!AE10","v":0},null,{"$f":"H20/H19","v":{"$error":"#DIV/0!"}}]
[null,"* delež glede na oddajni čas EVR/SLO AV del"]
[]
[null,"Vse vsebine",null,null,null,null,null,{"$f":"PODATKI!Z10","v":0},null,{"$f":"H23/F9","v":{"$error":"#DIV/0!"}}]
[null,"Vse vsebine lastne produkcije",null,null,null,null,null,{"$f":"PODATKI!AF10","v":0},null,{"$f":"H24/F9","v":{"$error":"#DIV/0!"}}]
[null,"Vsebine lastne produkcije, premierno predvajanje, 2. ponovitev in",null,null,null,null,null,{"$f":"PODATKI!AG10","v":0},null,{"$f":"H25/F9","v":{"$error":"#DIV/0!"}}]
[null,"2. ponovitev TV pogovorne oddaje"]
[null,"* delež glede na letni oddajni čas"]
[]
[null,"Vse vsebine",null,null,null,null,null,{"$f":"PODATKI!Z10","v":0},null,"delež"]
[null,{"$f":"PODATKI!AG1","v":"1. informativna"},null,null,null,null,null,{"$f":"PODATKI!AI10","v":0},null,{"$f":"H30/F9","v":{"$error":"#DIV/0!"}}]
[null,{"$f":"PODATKI!AG2","v":"2. izobraževalna"},null,null,null,null,null,{"$f":"PODATKI!AJ10","v":0},null,{"$f":"H31/F9","v":{"$error":"#DIV/0!"}}]
[null,{"$f":"PODATKI!AG3","v":"3. kulturno-umetniška"},null,null,null,null,null,{"$f":"PODATKI!AK10","v":0},null,{"$f":"H32/F9","v":{"$error":"#DIV/0!"}}]
[null,{"$f":"PODATKI!AG4","v":"4. verska"},null,null,null,null,null,{"$f":"PODATKI!AL10","v":0},null,{"$f":"H33/F9","v":{"$error":"#DIV/0!"}}]
[null,{"$f":"PODATKI!AG5","v":"5. otroška ali mladinska"},null,null,null,null,null,{"$f":"PODATKI!AM10","v":0},null,{"$f":"H34/F9","v":{"$error":"#DIV/0!"}}]
[null,{"$f":"PODATKI!AG6","v":"6. športna"},null,null,null,null,null,{"$f":"PODATKI!AN10","v":0},null,{"$f":"H35/F9","v":{"$error":"#DIV/0!"}}]
[null,{"$f":"PODATKI!AG7","v":"7. kulturno-zabavna"},null,null,null,null,null,{"$f":"PODATKI!AO10","v":0},null,{"$f":"H36/F9","v":{"$error":"#DIV/0!"}}]
[null,{"$f":"PODATKI!AG8","v":"8. zabavna"},null,null,null,null,null,{"$f":"PODATKI!AP10","v":0},null,{"$f":"H37/F9","v":{"$error":"#DIV/0!"}}]
[null,"* delež glede na letni oddajni čas"]
[null,"Vse vsebine lastne produkcije; 100% trajanje",null,null,null,null,null,{"$f":"PODATKI!AF10","v":0},null,"delež"]
[null,{"$f":"PODATKI!AG1","v":"1. informativna"},null,null,null,null,null,{"$f":"PODATKI!AR10","v":0},null,{"$f":"H40/F9","v":{"$error":"#DIV/0!"}}]
[null,{"$f":"PODATKI!AG2","v":"2. izobraževalna"},null,null,null,null,null,{"$f":"PODATKI!AS10","v":0},null,{"$f":"H41/F9","v":{"$error":"#DIV/0!"}}]
[null,{"$f":"PODATKI!AG3","v":"3. kulturno-umetniška"},null,null,null,null,null,{"$f":"PODATKI!AT10","v":0},null,{"$f":"H42/F9","v":{"$error":"#DIV/0!"}}]
[null,{"$f":"PODATKI!AG4","v":"4. verska"},null,null,null,null,null,{"$f":"PODATKI!AU10","v":0},null,{"$f":"H43/F9","v":{"$error":"#DIV/0!"}}]
[null,{"$f":"PODATKI!AG5","v":"5. otroška ali mladinska"},null,null,null,null,null,{"$f":"PODATKI!AV10","v":0},null,{"$f":"H44/F9","v":{"$error":"#DIV/0!"}}]
[null,{"$f":"PODATKI!AG6","v":"6. športna"},null,null,null,null,null,{"$f":"PODATKI!AW10","v":0},null,{"$f":"H45/F9","v":{"$error":"#DIV/0!"}}]
[null,{"$f":"PODATKI!AG7","v":"7. kulturno-zabavna"},null,null,null,null,null,{"$f":"PODATKI!AX10","v":0},null,{"$f":"H46/F9","v":{"$error":"#DIV/0!"}}]
[null,{"$f":"PODATKI!AG8","v":"8. zabavna"},null,null,null,null,null,{"$f":"PODATKI!AY10","v":0},null,{"$f":"H47/F9","v":{"$error":"#DIV/0!"}}]
[null,"* delež glede na letni oddajni čas"]
[null,"Vsebine lastne produkcije, premierno predvajanje, 2. ponovitev in",null,null,null,null,null,null,null,"delež"]
[null,"2. ponovitev TV pogovorne oddaje",null,null,null,null,null,{"$f":"PODATKI!AG10","v":0}]
[null,{"$f":"PODATKI!AG1","v":"1. informativna"},null,null,null,null,null,{"$f":"PODATKI!BA10","v":0},null,{"$f":"H51/F9","v":{"$error":"#DIV/0!"}}]
[null,{"$f":"PODATKI!AG2","v":"2. izobraževalna"},null,null,null,null,null,{"$f":"PODATKI!BB10","v":0},null,{"$f":"H52/F9","v":{"$error":"#DIV/0!"}}]
[null,{"$f":"PODATKI!AG3","v":"3. kulturno-umetniška"},null,null,null,null,null,{"$f":"PODATKI!BC10","v":0},null,{"$f":"H53/F9","v":{"$error":"#DIV/0!"}}]
[null,{"$f":"PODATKI!AG4","v":"4. verska"},null,null,null,null,null,{"$f":"PODATKI!BD10","v":0},null,{"$f":"H54/F9","v":{"$error":"#DIV/0!"}}]
[null,{"$f":"PODATKI!AG5","v":"5. otroška ali mladinska"},null,null,null,null,null,{"$f":"PODATKI!BE10","v":0},null,{"$f":"H55/F9","v":{"$error":"#DIV/0!"}}]
[null,{"$f":"PODATKI!AG6","v":"6. športna"},null,null,null,null,null,{"$f":"PODATKI!BF10","v":0},null,{"$f":"H56/F9","v":{"$error":"#DIV/0!"}}]
[null,{"$f":"PODATKI!AG7","v":"7. kulturno-zabavna"},null,null,null,null,null,{"$f":"PODATKI!BG10","v":0},null,{"$f":"H57/F9","v":{"$error":"#DIV/0!"}}]
[null,{"$f":"PODATKI!AG8","v":"8. zabavna"},null,null,null,null,null,{"$f":"PODATKI!BH10","v":0},null,{"$f":"H58/F9","v":{"$error":"#DIV/0!"}}]
[null,"* delež glede na letni oddajni čas"]
[]
[null,{"$f":"PODATKI!AG9","v":"9.9 SLO glasba izven vsebin"},null,null,null,null,null,{"$f":"PODATKI!AQ10","v":0},null,{"$f":"H61/F9","v":{"$error":"#DIV/0!"}}]
[null,"* delež glede na letni oddajni čas"]