{"text_format":"1","workbook":"xlsx","n_sheets":2,"sheets":["PODATKI","IZRAČUNI"],"not_rendered":{"charts":0,"images":0,"macros":1,"external_links":0,"defined_names":3,"comments":0,"pivot_tables":0},"unopened":[],"bounds":{"document_bytes":16777216,"sheet_cells":100000,"rows_first":2000,"rows_last":500,"rows_between":2000,"halvings":0,"cell_chars":16384,"cell_head_chars":4096},"cells_cut":0,"cells_raw":0,"read":"whole","date_system":"1900"}

{"sheet":"PODATKI","index":0,"n_rows":15,"n_cols":59,"rows_kept":15,"cut":false,"hidden":false,"merged":[[5,0,5,3],[3,4,3,7],[4,4,4,7],[1,0,1,17],[3,0,3,3],[4,0,4,3]]}
[null,null,null,null,null,null,null,null,null,null,null,null,null,null,null,null,null,null,null,null,null,null,null,"podatki - NE SPREMINJAJ!",null,null,null,null,null,null,null,"1. informativna"]
["PODATKI O PREDVAJANEM TELEVIZIJSKEM PROGRAMU",null,null,null,null,null,null,null,null,null,null,null,null,null,null,null,null,null,null,null,null,null,null,"slo/evr AV DELO",null,"producent",null,"< 5 let",null,"produkcija",null,"2. izobraževalna"]
[null,null,null,null,null,null,null,null,null,null,null,null,null,null,null,null,null,null,null,null,null,null,null,"1. DA",null,"1.neodvisni",null,"1.manj kot 5 let",null,"1.hišna/naročena",null,"3. kulturno-umetniška",null,"predvajanje"]
["Izdajatelj:",null,null,null,null,null,null,null,null,null,null,null,null,null,null,null,null,null,null,null,null,null,null,"2. NE",null,"2.odvisni",null,"2.več kot 5 let",null,"2.koprodukcija",null,"4. verska",null,"1. premierno/1.pon./2.pon. TV pog. oddaje"]
["Ime programa:",null,null,null,null,null,null,null,null,null,null,null,null,null,null,null,null,null,null,null,null,null,null,null,null,null,null,null,null,"3.kupljena",null,"5. otroška ali mladinska",null,"2. kasnejše ponovitve"]
["Leto:",null,null,null,null,null,null,null,null,null,null,null,null,null,null,null,null,null,null,null,null,null,null,null,"Oddajni čas:","IZRAČUN",null,"Letni:",{"$f":"SUM(T12:T14)","v":0},null,null,"6. športna"]
[null,null,null,null,null,null,null,null,null,null,null,null,null,null,null,null,null,null,null,null,null,null,null,null,null,null,null,"Evropska AV dela:",{"$f":"SUM(U11:U14)","v":0},null,null,"7. kulturno-zabavna"]
[null,null,null,null,null,null,null,null,null,null,null,null,null,null,null,null,null,null,null,null,null,null,null,null,null,null,null,"Slovenska AV dela:",{"$f":"SUM(W11:W14)","v":0},null,null,"8. zabavna"]
[null,null,null,null,null,null,null,null,null,null,null,null,null,null,null,null,null,null,null,null,null,null,null,null,null,null,null,null,null,null,null,"9.9 SLO glasba izven vsebin",null,"VSEBINE - 100% TRAJANJE",null,null,null,null,null,null,null,null,"VSEBINE - TRAJANJE VSA LP",null,null,null,null,null,null,null,null,"VSEBINE - TRAJANJE LP PREM. & 1. PON."]
["PODATKE O VSEBINAH VEDNO VNAŠAJTE V 13. VRSTICO!",null,null,null,null,null,null,null,null,null,null,null,null,null,null,null,null,null,null,null,null,null,null,null,{"$f":"SUM(Y12:Y14)","v":"00:00:00"},"00:00:00","00:00:00","00:00:00","00:00:00",0,0,0,null,{"$f":"SUM(AH12:AH14)","v":0},0,0,0,0,0,0,0,0,0,0,0,0,0,0,0,0,null,{"$f":"SUM(AZ12:AZ14)","v":0},0,0,0,0,0,0,0]
["DATUM","T","!","ZAČETEK","TRAJANJE","NASLOV","ZVRST","PRODUKCIJA",null,"DELEŽ","PREDVAJANJE","SLO AV","SLO AV N","EVR AV","EVR AV N","IME IN SEDEŽ PRODUCENTA/OV",null,"LETO PROD.",null,"LETNI","EU AV DELA","ODD. ČAS 3","SLO AV DELA",null,"TRAJANJE 100%","SLO AV","SLO AV N","EVR AV","EVR AV N","< 5 LET","TRAJANJE LP","TR. LP PREM",null,{"$f":"AF1","v":"1. informativna"},{"$f":"AF2","v":"2. izobraževalna"},{"$f":"AF3","v":"3. kulturno-umetniška"},{"$f":"AF4","v":"4. verska"},{"$f":"AF5","v":"5. otroška ali mladinska"},{"$f":"AF6","v":"6. športna"},{"$f":"AF7","v":"7. kulturno-zabavna"},{"$f":"AF8","v":"8. zabavna"},{"$f":"AF9","v":"9.9 SLO glasba izven vsebin"},{"$f":"AF1","v":"1. informativna"},{"$f":"AF2","v":"2. izobraževalna"},{"$f":"AF3","v":"3. kulturno-umetniška"},{"$f":"AF4","v":"4. verska"},{"$f":"AF5","v":"5. otroška ali mladinska"},{"$f":"AF6","v":"6. športna"},{"$f":"AF7","v":"7. kulturno-zabavna"},{"$f":"AF8","v":"8. zabavna"},null,{"$f":"AF1","v":"1. informativna"},{"$f":"AF2","v":"2. izobraževalna"},{"$f":"AF3","v":"3. kulturno-umetniška"},{"$f":"AF4","v":"4. verska"},{"$f":"AF5","v":"5. otroška ali mladinska"},{"$f":"AF6","v":"6. športna"},{"$f":"AF7","v":"7. kulturno-zabavna"},{"$f":"AF8","v":"8. zabavna"}]
[null,null,null,null,null,null,null,null,{"$f":"IF(H12=\"2.koprodukcija\",\">\",\"\")","v":""},{"$f":"IF(H12= \"1.hišna/naročena\",\"100,00%\",\"delež prod.\")","v":"delež prod."},null,null,null,null,null,null,{"$f":"IF(O12=\"1. DA\",\">\",\"\")","v":""},null,"ODD. ČAS:",null,null,null,null,null,{"$f":"E12","v":0},{"$f":"IF(L12=\"1. DA\",Y12,\"00:00:00\")","v":"00:00:00"},{"$f":"IF(M12=\"1. DA\",Y12,\"00:00:00\")","v":"00:00:00"},{"$f":"IF(N12=\"1. DA\",Y12,\"00:00:00\")","v":"00:00:00"},{"$f":"IF(O12=\"1. DA\",Y12,\"00:00:00\")","v":"00:00:00"},{"$f":"IF(R12=\"1.manj kot 5 let\",AC12,\"00:00:00\")","v":"00:00:00"},{"$f":"IF(J12<>\"delež prod.\",E12*J12,\"00:00:00\")","v":"00:00:00"},{"$f":" IF(K12 = AH$4,AE12,\"00:00:00\")","v":"00:00:00"},null,{"$f":" IF(G12 = AF$1,Y12,\"00:00:00\")","v":"00:00:00"},{"$f":" IF(G12 = AF$2,Y12,\"00:00:00\")","v":"00:00:00"},{"$f":" IF(G12 = AF$3,Y12,\"00:00:00\")","v":"00:00:00"},{"$f":" IF(G12 = AF$4,Y12,\"00:00:00\")","v":"00:00:00"},{"$f":" IF(G12 = AF$5,Y12,\"00:00:00\")","v":"00:00:00"},{"$f":" IF(G12 = AF$6,Y12,\"00:00:00\")","v":"00:00:00"},{"$f":" IF(G12 = AF$7,Y12,\"00:00:00\")","v":"00:00:00"},{"$f":" IF(G12 = AF$8,Y12,\"00:00:00\")","v":"00:00:00"},{"$f":" IF(G12 = AF$9,Y12,\"00:00:00\")","v":"00:00:00"},{"$f":" IF(G12 = AF$1,AE12,\"00:00:00\")","v":"00:00:00"},{"$f":" IF(G12 = AF$2,AE12,\"00:00:00\")","v":"00:00:00"},{"$f":" IF(G12 = AF$3,AE12,\"00:00:00\")","v":"00:00:00"},{"$f":" IF(G12 = AF$4,AE12,\"00:00:00\")","v":"00:00:00"},{"$f":" IF(G12 = AF$5,AE12,\"00:00:00\")","v":"00:00:00"},{"$f":" IF(G12 = AF$6,AE12,\"00:00:00\")","v":"00:00:00"},{"$f":" IF(G12 = AF$7,AE12,\"00:00:00\")","v":"00:00:00"},{"$f":" IF(G12 = AF$8,AE12,\"00:00:00\")","v":"00:00:00"},null,{"$f":" IF($K12 = $AH$4,AQ12,\"00:00:00\")","v":"00:00:00"},{"$f":" IF($K12 = $AH$4,AR12,\"00:00:00\")","v":"00:00:00"},"00:00:00","00:00:00","00:00:00","00:00:00","00:00:00","00:00:00"]
[null,null,null,null,null,null,null,null,{"$f":"IF(H13=\"2.koprodukcija\",\">\",\"\")","v":""},{"$f":"IF(H13= \"1.hišna/naročena\",\"100,00%\",\"delež prod.\")","v":"delež prod."},null,null,null,null,null,null,{"$f":"IF(O13=\"1. DA\",\">\",\"\")","v":""},null,"ODD. ČAS:",null,null,null,null,null,{"$f":"E13","v":0},{"$f":"IF(L13=\"1. DA\",Y13,\"00:00:00\")","v":"00:00:00"},{"$f":"IF(M13=\"1. DA\",Y13,\"00:00:00\")","v":"00:00:00"},{"$f":"IF(N13=\"1. DA\",Y13,\"00:00:00\")","v":"00:00:00"},{"$f":"IF(O13=\"1. DA\",Y13,\"00:00:00\")","v":"00:00:00"},{"$f":"IF(R13=\"1.manj kot 5 let\",AC13,\"00:00:00\")","v":"00:00:00"},{"$f":"IF(J13<>\"delež prod.\",E13*J13,\"00:00:00\")","v":"00:00:00"},{"$f":" IF(K13 = AH$4,AE13,\"00:00:00\")","v":"00:00:00"},null,{"$f":" IF(G13 = AF$1,Y13,\"00:00:00\")","v":"00:00:00"},{"$f":" IF(G13 = AF$2,Y13,\"00:00:00\")","v":"00:00:00"},{"$f":" IF(G13 = AF$3,Y13,\"00:00:00\")","v":"00:00:00"},{"$f":" IF(G13 = AF$4,Y13,\"00:00:00\")","v":"00:00:00"},{"$f":" IF(G13 = AF$5,Y13,\"00:00:00\")","v":"00:00:00"},{"$f":" IF(G13 = AF$6,Y13,\"00:00:00\")","v":"00:00:00"},{"$f":" IF(G13 = AF$7,Y13,\"00:00:00\")","v":"00:00:00"},{"$f":" IF(G13 = AF$8,Y13,\"00:00:00\")","v":"00:00:00"},{"$f":" IF(G13 = AF$9,Y13,\"00:00:00\")","v":"00:00:00"},{"$f":" IF(G13 = AF$1,AE13,\"00:00:00\")","v":"00:00:00"},{"$f":" IF(G13 = AF$2,AE13,\"00:00:00\")","v":"00:00:00"},{"$f":" IF(G13 = AF$3,AE13,\"00:00:00\")","v":"00:00:00"},{"$f":" IF(G13 = AF$4,AE13,\"00:00:00\")","v":"00:00:00"},{"$f":" IF(G13 = AF$5,AE13,\"00:00:00\")","v":"00:00:00"},{"$f":" IF(G13 = AF$6,AE13,\"00:00:00\")","v":"00:00:00"},{"$f":" IF(G13 = AF$7,AE13,\"00:00:00\")","v":"00:00:00"},{"$f":" IF(G13 = AF$8,AE13,\"00:00:00\")","v":"00:00:00"},null,{"$f":" IF($K13 = $AH$4,AQ13,\"00:00:00\")","v":"00:00:00"},{"$f":" IF($K13 = $AH$4,AR13,\"00:00:00\")","v":"00:00:00"},{"$f":" IF($K13 = $AH$4,AS13,\"00:00:00\")","v":"00:00:00"},{"$f":" IF($K13 = $AH$4,AT13,\"00:00:00\")","v":"00:00:00"},{"$f":" IF($K13 = $AH$4,AU13,\"00:00:00\")","v":"00:00:00"},{"$f":" IF($K13 = $AH$4,AV13,\"00:00:00\")","v":"00:00:00"},{"$f":" IF($K13 = $AH$4,AW13,\"00:00:00\")","v":"00:00:00"},{"$f":" IF($K13 = $AH$4,AX13,\"00:00:00\")","v":"00:00:00"}]
[null,null,null,null,null,null,null,null,"",{"$f":"IF(H14= \"1.hišna/naročena\",\"100,00%\",\"delež prod.\")","v":"delež prod."},null,null,null,null,null,null,null,null,"ODD. ČAS:",null,null,null,null,null,{"$f":"E14","v":0},{"$f":"IF(L14=\"1. DA\",Y14,\"00:00:00\")","v":"00:00:00"},{"$f":"IF(M14=\"1. DA\",Y14,\"00:00:00\")","v":"00:00:00"},{"$f":"IF(N14=\"1. DA\",Y14,\"00:00:00\")","v":"00:00:00"},{"$f":"IF(O14=\"1. DA\",Y14,\"00:00:00\")","v":"00:00:00"},{"$f":"IF(R14=\"1.manj kot 5 let\",AC14,\"00:00:00\")","v":"00:00:00"},{"$f":"IF(J14<>\"delež prod.\",E14*J14,\"00:00:00\")","v":"00:00:00"},{"$f":" IF(K14 = AH$4,AE14,\"00:00:00\")","v":"00:00:00"},null,{"$f":" IF(G14 = AF$1,Y14,\"00:00:00\")","v":"00:00:00"},{"$f":" IF(G14 = AF$2,Y14,\"00:00:00\")","v":"00:00:00"},{"$f":" IF(G14 = AF$3,Y14,\"00:00:00\")","v":"00:00:00"},{"$f":" IF(G14 = AF$4,Y14,\"00:00:00\")","v":"00:00:00"},{"$f":" IF(G14 = AF$5,Y14,\"00:00:00\")","v":"00:00:00"},{"$f":" IF(G14 = AF$6,Y14,\"00:00:00\")","v":"00:00:00"},{"$f":" IF(G14 = AF$7,Y14,\"00:00:00\")","v":"00:00:00"},{"$f":" IF(G14 = AF$8,Y14,\"00:00:00\")","v":"00:00:00"},{"$f":" IF(G14 = AF$9,Y14,\"00:00:00\")","v":"00:00:00"},{"$f":" IF(G14 = AF$1,AE14,\"00:00:00\")","v":"00:00:00"},{"$f":" IF(G14 = AF$2,AE14,\"00:00:00\")","v":"00:00:00"},{"$f":" IF(G14 = AF$3,AE14,\"00:00:00\")","v":"00:00:00"},{"$f":" IF(G14 = AF$4,AE14,\"00:00:00\")","v":"00:00:00"},{"$f":" IF(G14 = AF$5,AE14,\"00:00:00\")","v":"00:00:00"},{"$f":" IF(G14 = AF$6,AE14,\"00:00:00\")","v":"00:00:00"},{"$f":" IF(G14 = AF$7,AE14,\"00:00:00\")","v":"00:00:00"},{"$f":" IF(G14 = AF$8,AE14,\"00:00:00\")","v":"00:00:00"},null,{"$f":" IF($K14 = $AH$4,AQ14,\"00:00:00\")","v":"00:00:00"},{"$f":" IF($K14 = $AH$4,AR14,\"00:00:00\")","v":"00:00:00"},{"$f":" IF($K14 = $AH$4,AS14,\"00:00:00\")","v":"00:00:00"},{"$f":" IF($K14 = $AH$4,AT14,\"00:00:00\")","v":"00:00:00"},{"$f":" IF($K14 = $AH$4,AU14,\"00:00:00\")","v":"00:00:00"},{"$f":" IF($K14 = $AH$4,AV14,\"00:00:00\")","v":"00:00:00"},{"$f":" IF($K14 = $AH$4,AW14,\"00:00:00\")","v":"00:00:00"},{"$f":" IF($K14 = $AH$4,AX14,\"00:00:00\")","v":"00:00:00"}]
["Gš.v.20120726.1unl"]

{"sheet":"IZRAČUNI","index":1,"n_rows":62,"n_cols":10,"rows_kept":62,"cut":false,"hidden":false,"merged":[[5,3,5,7],[6,3,6,7]]}
[]
[]
[{"$f":"PODATKI!A2","v":"PODATKI O PREDVAJANEM TELEVIZIJSKEM PROGRAMU"},null,null,null,null,null,null,null,null,{"$f":"PODATKI!E5","v":0}]
[]
[]
[null,null,{"$f":"PODATKI!A4","v":"Izdajatelj:"},{"$f":"PODATKI!E4","v":0}]
[null,null,{"$f":"PODATKI!A5","v":"Ime programa:"},{"$f":"PODATKI!E5","v":0}]
[null,null,{"$f":"PODATKI!A6","v":"Leto:"},{"$f":"PODATKI!E6","v":0}]
[null,"Oddajni čas:",null,null,"Letni:",{"$f":"PODATKI!AC6","v":0},"ur"]
[null,null,null,null,"Evropska AV dela:",{"$f":"PODATKI!AC7","v":0},"ur"]
[null,null,null,null,"Slovenska AV dela:",{"$f":"PODATKI!AC8","v":0},"ur"]
[]
[null,"Podatki o predvajanih programskih vsebinah"]
[]
[null,"AV dela",null,null,null,null,null,"trajanje",null,"delež"]
[null,{"$f":"PODATKI!Z11","v":"SLO AV"},"slovenska AV dela",null,null,null,null,{"$f":"PODATKI!Z10","v":0},null,{"$f":"H16/F11","v":{"$error":"#DIV/0!"}}]
[null,{"$f":"PODATKI!AA11","v":"SLO AV N"},"slovenska AV dela neodvisnih producentov",null,null,null,null,{"$f":"PODATKI!AA10","v":0},null,{"$f":"H17/F11","v":{"$error":"#DIV/0!"}}]
[null,{"$f":"PODATKI!AB11","v":"EVR AV"},"evropska AV dela",null,null,null,null,{"$f":"PODATKI!AB10","v":0},null,{"$f":"H18/F10","v":{"$error":"#DIV/0!"}}]
[null,{"$f":"PODATKI!AC11","v":"EVR AV N"},"evropska AV dela neodvisnih producentov",null,null,null,null,{"$f":"PODATKI!AC10","v":0},null,{"$f":"H19/F10","v":{"$error":"#DIV/0!"}}]
[null,{"$f":"PODATKI!AD11","v":"< 5 LET"},"evropska AV dela neodv. prod., mlajša od 5 let",null,null,null,null,{"$f":"PODATKI!AD10","v":0},null,{"$f":"H20/H19","v":{"$error":"#DIV/0!"}}]
[null,"* delež glede na oddajni čas EVR/SLO AV del"]
[]
[null,"Vse vsebine",null,null,null,null,null,{"$f":"PODATKI!Y10","v":0},null,{"$f":"H23/F9","v":{"$error":"#DIV/0!"}}]
[null,"Vse vsebine lastne produkcije",null,null,null,null,null,{"$f":"PODATKI!AE10","v":0},null,{"$f":"H24/F9","v":{"$error":"#DIV/0!"}}]
[null,"Vsebine lastne produkcije, premierno predvajanje, 2. ponovitev in",null,null,null,null,null,{"$f":"PODATKI!AF10","v":0},null,{"$f":"H25/F9","v":{"$error":"#DIV/0!"}}]
[null,"2. ponovitev TV pogovorne oddaje"]
[null,"* delež glede na letni oddajni čas"]
[]
[null,"Vse vsebine",null,null,null,null,null,{"$f":"PODATKI!Y10","v":0},null,"delež"]
[null,{"$f":"PODATKI!AF1","v":"1. informativna"},null,null,null,null,null,{"$f":"PODATKI!AH10","v":0},null,{"$f":"H30/F9","v":{"$error":"#DIV/0!"}}]
[null,{"$f":"PODATKI!AF2","v":"2. izobraževalna"},null,null,null,null,null,{"$f":"PODATKI!AI10","v":0},null,{"$f":"H31/F9","v":{"$error":"#DIV/0!"}}]
[null,{"$f":"PODATKI!AF3","v":"3. kulturno-umetniška"},null,null,null,null,null,{"$f":"PODATKI!AJ10","v":0},null,{"$f":"H32/F9","v":{"$error":"#DIV/0!"}}]
[null,{"$f":"PODATKI!AF4","v":"4. verska"},null,null,null,null,null,{"$f":"PODATKI!AK10","v":0},null,{"$f":"H33/F9","v":{"$error":"#DIV/0!"}}]
[null,{"$f":"PODATKI!AF5","v":"5. otroška ali mladinska"},null,null,null,null,null,{"$f":"PODATKI!AL10","v":0},null,{"$f":"H34/F9","v":{"$error":"#DIV/0!"}}]
[null,{"$f":"PODATKI!AF6","v":"6. športna"},null,null,null,null,null,{"$f":"PODATKI!AM10","v":0},null,{"$f":"H35/F9","v":{"$error":"#DIV/0!"}}]
[null,{"$f":"PODATKI!AF7","v":"7. kulturno-zabavna"},null,null,null,null,null,{"$f":"PODATKI!AN10","v":0},null,{"$f":"H36/F9","v":{"$error":"#DIV/0!"}}]
[null,{"$f":"PODATKI!AF8","v":"8. zabavna"},null,null,null,null,null,{"$f":"PODATKI!AO10","v":0},null,{"$f":"H37/F9","v":{"$error":"#DIV/0!"}}]
[null,"* delež glede na letni oddajni čas"]
[null,"Vse vsebine lastne produkcije; 100% trajanje",null,null,null,null,null,{"$f":"PODATKI!AE10","v":0},null,"delež"]
[null,{"$f":"PODATKI!AF1","v":"1. informativna"},null,null,null,null,null,{"$f":"PODATKI!AQ10","v":0},null,{"$f":"H40/F9","v":{"$error":"#DIV/0!"}}]
[null,{"$f":"PODATKI!AF2","v":"2. izobraževalna"},null,null,null,null,null,{"$f":"PODATKI!AR10","v":0},null,{"$f":"H41/F9","v":{"$error":"#DIV/0!"}}]
[null,{"$f":"PODATKI!AF3","v":"3. kulturno-umetniška"},null,null,null,null,null,{"$f":"PODATKI!AS10","v":0},null,{"$f":"H42/F9","v":{"$error":"#DIV/0!"}}]
[null,{"$f":"PODATKI!AF4","v":"4. verska"},null,null,null,null,null,{"$f":"PODATKI!AT10","v":0},null,{"$f":"H43/F9","v":{"$error":"#DIV/0!"}}]
[null,{"$f":"PODATKI!AF5","v":"5. otroška ali mladinska"},null,null,null,null,null,{"$f":"PODATKI!AU10","v":0},null,{"$f":"H44/F9","v":{"$error":"#DIV/0!"}}]
[null,{"$f":"PODATKI!AF6","v":"6. športna"},null,null,null,null,null,{"$f":"PODATKI!AV10","v":0},null,{"$f":"H45/F9","v":{"$error":"#DIV/0!"}}]
[null,{"$f":"PODATKI!AF7","v":"7. kulturno-zabavna"},null,null,null,null,null,{"$f":"PODATKI!AW10","v":0},null,{"$f":"H46/F9","v":{"$error":"#DIV/0!"}}]
[null,{"$f":"PODATKI!AF8","v":"8. zabavna"},null,null,null,null,null,{"$f":"PODATKI!AX10","v":0},null,{"$f":"H47/F9","v":{"$error":"#DIV/0!"}}]
[null,"* delež glede na letni oddajni čas"]
[null,"Vsebine lastne produkcije, premierno predvajanje, 2. ponovitev in",null,null,null,null,null,null,null,"delež"]
[null,"2. ponovitev TV pogovorne oddaje",null,null,null,null,null,{"$f":"PODATKI!AF10","v":0}]
[null,{"$f":"PODATKI!AF1","v":"1. informativna"},null,null,null,null,null,{"$f":"PODATKI!AZ10","v":0},null,{"$f":"H51/F9","v":{"$error":"#DIV/0!"}}]
[null,{"$f":"PODATKI!AF2","v":"2. izobraževalna"},null,null,null,null,null,{"$f":"PODATKI!BA10","v":0},null,{"$f":"H52/F9","v":{"$error":"#DIV/0!"}}]
[null,{"$f":"PODATKI!AF3","v":"3. kulturno-umetniška"},null,null,null,null,null,{"$f":"PODATKI!BB10","v":0},null,{"$f":"H53/F9","v":{"$error":"#DIV/0!"}}]
[null,{"$f":"PODATKI!AF4","v":"4. verska"},null,null,null,null,null,{"$f":"PODATKI!BC10","v":0},null,{"$f":"H54/F9","v":{"$error":"#DIV/0!"}}]
[null,{"$f":"PODATKI!AF5","v":"5. otroška ali mladinska"},null,null,null,null,null,{"$f":"PODATKI!BD10","v":0},null,{"$f":"H55/F9","v":{"$error":"#DIV/0!"}}]
[null,{"$f":"PODATKI!AF6","v":"6. športna"},null,null,null,null,null,{"$f":"PODATKI!BE10","v":0},null,{"$f":"H56/F9","v":{"$error":"#DIV/0!"}}]
[null,{"$f":"PODATKI!AF7","v":"7. kulturno-zabavna"},null,null,null,null,null,{"$f":"PODATKI!BF10","v":0},null,{"$f":"H57/F9","v":{"$error":"#DIV/0!"}}]
[null,{"$f":"PODATKI!AF8","v":"8. zabavna"},null,null,null,null,null,{"$f":"PODATKI!BG10","v":0},null,{"$f":"H58/F9","v":{"$error":"#DIV/0!"}}]
[null,"* delež glede na letni oddajni čas"]
[]
[null,{"$f":"PODATKI!AF9","v":"9.9 SLO glasba izven vsebin"},null,null,null,null,null,{"$f":"PODATKI!AP10","v":0},null,{"$f":"H61/F9","v":{"$error":"#DIV/0!"}}]
[null,"* delež glede na letni oddajni čas"]